BEGIN:VCALENDAR
VERSION:2.0
PRODID:-//New York State Wireless Association - ECPv6.15.20//NONSGML v1.0//EN
CALSCALE:GREGORIAN
METHOD:PUBLISH
X-WR-CALNAME:New York State Wireless Association
X-ORIGINAL-URL:https://nyswa.org
X-WR-CALDESC:Events for New York State Wireless Association
REFRESH-INTERVAL;VALUE=DURATION:PT1H
X-Robots-Tag:noindex
X-PUBLISHED-TTL:PT1H
BEGIN:VTIMEZONE
TZID:America/New_York
BEGIN:DAYLIGHT
TZOFFSETFROM:-0500
TZOFFSETTO:-0400
TZNAME:EDT
DTSTART:20230312T070000
END:DAYLIGHT
BEGIN:STANDARD
TZOFFSETFROM:-0400
TZOFFSETTO:-0500
TZNAME:EST
DTSTART:20231105T060000
END:STANDARD
BEGIN:DAYLIGHT
TZOFFSETFROM:-0500
TZOFFSETTO:-0400
TZNAME:EDT
DTSTART:20240310T070000
END:DAYLIGHT
BEGIN:STANDARD
TZOFFSETFROM:-0400
TZOFFSETTO:-0500
TZNAME:EST
DTSTART:20241103T060000
END:STANDARD
BEGIN:DAYLIGHT
TZOFFSETFROM:-0500
TZOFFSETTO:-0400
TZNAME:EDT
DTSTART:20250309T070000
END:DAYLIGHT
BEGIN:STANDARD
TZOFFSETFROM:-0400
TZOFFSETTO:-0500
TZNAME:EST
DTSTART:20251102T060000
END:STANDARD
END:VTIMEZONE
BEGIN:VEVENT
DTSTART;TZID=America/New_York:20240917T000000
DTEND;TZID=America/New_York:20240917T235959
DTSTAMP:20260422T074925
CREATED:20240418T131221Z
LAST-MODIFIED:20240812T190304Z
UID:10000046-1726531200-1726617599@nyswa.org
SUMMARY:Fall Charity Golf Classic
DESCRIPTION:Get ready to show off your golf skills on Tuesday\, September 17 at the Ravenwood Golf Club in Victor\, NY for NYSWA’s 2024 Annual Fall Charity Golf Classic! Join your industry colleagues from all over the northeast for a great day of golf followed by awards and networking. Space is limited\, so register today! Sponsorships available! \n\n\n\nNetworking Social Details  \n\n\n\nMonday\, September 16\, 2024  \n\n\n\n6:00 – 9:00pm  \n\n\n\nTrata – The Restaurant at The Armory @ the Culver Road Armory  \n\n\n\n145 Culver Road Rochester\, NY 14620 \n\n\n\n﻿Golf Tournament Details \n\n\n\nTuesday\, September 17\, 2024 \n\n\n\n8:30am – 5:30pm \n\n\n\nRavenwood Golf Club  \n\n\n\n929 Lynaugh Road Victor\, NY 14564 \n\n\n\nSchedule: \n\n\n\n8:00am: Breakfast & Registration 9:00am: Boxed Lunch Distribution \n\n\n\n9:30am: Shotgun Start for Golf \n\n\n\n3:00pm: Appetizers \n\n\n\n3:30pm: Awards & Dinner 5:30pm: Departure \n\n\n\nPricing: \n\n\n\nIndividual Playing Spot: $275 (includes golf\, breakfast\, lunch and Awards Dinner) \n\n\n\nFoursome: $1100 (includes golf\, breakfast\, lunch and Awards Dinner) Spectator: $99 (includes access to tournament\, breakfast\, lunch & Awards Dinner) \n\n\n\nSponsorships: \n\n\n\nThank you to our event sponsors! \n\n\n\n\n\n\n\nAvailable Sponsorships: \n\n\n\nEvent Sponsorship – $4950 (1 available) \n\n\n\nSponsorship Includes: \n\n\n\n•            Two Foursomes \n\n\n\n•            Branded item given to all attendees (with other Event Sponsor Logo) \n\n\n\n•            Special Mention at Reception \n\n\n\n•            Company Banner displayed at Reception \n\n\n\n•            Logo listed on NYSWA Website and all Promotional eBlast \n\n\n\n•            Logo on Event Banner or Slideshow \n\n\n\n•            Logo Hole Sign with Tent option (Sponsor to provide tent) \n\n\n\nBranded Golf Ball Sponsorship – $3850 (1 available) \n\n\n\nSponsorship Includes: \n\n\n\n•            One Foursome \n\n\n\n•            Company logo on Titleist Tru Feel Golf Balls given to all participants (with NYSWA Logo) \n\n\n\n•            Logo listed on NYSWA Website and all Promotional eBlasts \n\n\n\n•            Logo on Event Banner or Slideshow \n\n\n\nShoe Bag Sponsorship – $3850 (1 available) \n\n\n\nSponsorship Includes: \n\n\n\n•            One (1) Foursome \n\n\n\n•            Company Logo on Shoe Bags given to each player (NYSWA supplies cups) \n\n\n\n•            Company logo on all eblasts and event communications \n\n\n\n•            Company logo on NYSWA website during promotion of the event \n\n\n\nGold Sponsorship – $3300 (2 available) \n\n\n\nSponsorship Includes: \n\n\n\n•            One Foursome \n\n\n\n•            Special Mention at Reception \n\n\n\n•            Logo listed on NYSWA Website and all Promotional eBlasts \n\n\n\n•            Logo on Event Banner or Slideshow \n\n\n\n•            Logo Hole Sign with Tent option (Sponsor to provide tent) \n\n\n\nPin Flag Sponsorship – $3300 (2 available) \n\n\n\nSponsorship includes: \n\n\n\n•            One Foursome \n\n\n\n•            Company Logo on 9 Pin Flags (Front or Back Nine) \n\n\n\n•            Logo listed on NYSWA Website and all Promotional eBlasts \n\n\n\n•            Logo on Event Banner or Slideshow \n\n\n\nBreakfast Sponsorship – $2750 (1 available) \n\n\n\nSponsorship includes: \n\n\n\n•            One Foursome \n\n\n\n•            Exclusive Signage at Breakfast \n\n\n\n•            Logo on napkins at Breakfast \n\n\n\n•            Logo listed on NYSWA Website and all Promotional eBlasts \n\n\n\n•            Logo on Event Banner or Slideshow \n\n\n\nBranded Lunch Box Sponsorship – $2750 (1 available) \n\n\n\nSponsorship includes: \n\n\n\n•            One Foursome \n\n\n\n•            Logo on Lunch boxes (in the form of a sticker) and/or Napkins given to all participants \n\n\n\n•            Logo listed on NYSWA Website and all Promotional eBlasts \n\n\n\n•            Logo on Event Banner or Slideshow \n\n\n\nDinner Sponsorship – $2750 (1 available) \n\n\n\nSponsorship Includes: \n\n\n\n•            One Foursome \n\n\n\n•            Logo on napkins or cups at Reception \n\n\n\n•            Special Mention at Reception \n\n\n\n•            Option to display Company Banner displayed at Reception \n\n\n\n•            Logo listed on NYSWA Website and all Promotional eBlasts \n\n\n\n•            Logo on Event Banner or Slideshow \n\n\n\n•            Exclusive Signage at door \n\n\n\nClosest-to-the-Pin Sponsorship – $2750 (2 available) \n\n\n\nSponsorship includes: \n\n\n\n•            One Foursome \n\n\n\n•            Exclusive Signage on specified Hole with Tent option (Sponsor to provide tent) \n\n\n\n•            Logo Award Plaque (Sponsor to provide any additional prize) \n\n\n\n•            Logo listed on NYSWA Website and all Promotional eBlasts \n\n\n\n•            Logo on Event Banner or Slideshow \n\n\n\nLongest Drive Sponsorship – $2750 (2 available) \n\n\n\nSponsorship includes: \n\n\n\n•            One Foursome \n\n\n\n•            Exclusive Signage on specified Hole with Tent option (Sponsor to provide tent) \n\n\n\n•            Logo Award Plaque (Sponsor to provide any additional prize) \n\n\n\n•            Logo listed on NYSWA Website and all Promotional eBlasts \n\n\n\n•            Logo on Event Banner or Slideshow \n\n\n\nBall Marker Sponsorship – $2750 (1 available) \n\n\n\nSponsorship includes: \n\n\n\n•            One Foursome \n\n\n\n•            Company Logo on Ball Markers in the form of a Poker Chip available to all attendees \n\n\n\n•            Logo listed on NYSWA Website and all Promotional eBlasts \n\n\n\n•            Logo on Event Banner or Slideshow \n\n\n\nBeverage Cart Sponsorship – $2750 (2 available) \n\n\n\nSponsorship includes: \n\n\n\n•            One Foursome \n\n\n\n•            Company Logo/Signage to be displayed on one Beverage Cart for all-day service \n\n\n\n•            Logo listed on NYSWA Website and all Promotional eBlasts \n\n\n\n•            Logo on Event Banner or Slideshow \n\n\n\nGolf Cart Sponsorship – $2750 (1 available) \n\n\n\nSponsorship includes: \n\n\n\n•            One Foursome \n\n\n\n•            Company Logo/Signage to be displayed on Cart Signs in each cart \n\n\n\n•            Logo listed on NYSWA Website and all Promotional eBlasts \n\n\n\n•            Logo on Event Banner or Slideshow \n\n\n\nVolunteer Sponsorship – $2750 (1 available) \n\n\n\nSponsorship includes: \n\n\n\n•            One Foursome \n\n\n\n•            Company Logo on front and back of Caddie Bibs worn by all Volunteers \n\n\n\n•            Logo listed on NYSWA Website and all Promotional eBlasts \n\n\n\n•            Logo on Event Banner or Slideshow \n\n\n\nNetworking Social Sponsorship – $2750 (1 available) \n\n\n\nSponsorship Includes: \n\n\n\n•            One Foursome \n\n\n\n•            Logo on name tags worn by Attendees \n\n\n\n•            Logo sign/banner at Venue \n\n\n\n•            Logo listed on NSYWA Website and all Promotional eBlasts \n\n\n\n•            Logo on Event Banner or Slideshow \n\n\n\nHole Sponsorship with Tent Option Sponsorship – $825 (7 available) \n\n\n\nSponsorship includes: \n\n\n\n•            Logo Hole Sign with Tent option (Sponsor to provide tent) \n\n\n\n•            Logo listed on NYSWA Website and all Promotional eBlasts \n\n\n\n•            Logo on Event Banner or Slideshow \n\n\n\nHole Sponsorship – $330 (7 available) \n\n\n\nSponsorship includes: \n\n\n\n•            Logo Hole Sign \n\n\n\n•            Logo listed on NYSWA Website and all Promotional eBlasts \n\n\n\n•            Logo on Event Banner or Slideshow \n\n\n\nPromotional Sponsorship – $275 (unlimited) \n\n\n\nSponsorship includes: \n\n\n\n•            Logo listed on NYSWA Website and all Promotional eBlasts \n\n\n\n•            Logo on Event Banner or Slideshow We look forward to seeing you at the tournament!
URL:https://nyswa.org/event/annual-golf-tournament/
LOCATION:Ravenwood Golf Club\, Victor\, New York
CATEGORIES:NYSWA
ATTACH;FMTTYPE=image/jpeg:https://nyswa.org/wp-content/uploads/2014/10/NYSWA_0107.jpg
END:VEVENT
END:VCALENDAR